BEGIN:VCALENDAR
VERSION:2.0
PRODID:-//Calgary Central Seventh-day Adventist - ECPv6.15.15//NONSGML v1.0//EN
CALSCALE:GREGORIAN
METHOD:PUBLISH
X-WR-CALNAME:Calgary Central Seventh-day Adventist
X-ORIGINAL-URL:https://calgarycentraladventist.ca
X-WR-CALDESC:Events for Calgary Central Seventh-day Adventist
REFRESH-INTERVAL;VALUE=DURATION:PT1H
X-Robots-Tag:noindex
X-PUBLISHED-TTL:PT1H
BEGIN:VTIMEZONE
TZID:America/Edmonton
BEGIN:DAYLIGHT
TZOFFSETFROM:-0700
TZOFFSETTO:-0600
TZNAME:MDT
DTSTART:20230312T090000
END:DAYLIGHT
BEGIN:STANDARD
TZOFFSETFROM:-0600
TZOFFSETTO:-0700
TZNAME:MST
DTSTART:20231105T080000
END:STANDARD
BEGIN:DAYLIGHT
TZOFFSETFROM:-0700
TZOFFSETTO:-0600
TZNAME:MDT
DTSTART:20240310T090000
END:DAYLIGHT
BEGIN:STANDARD
TZOFFSETFROM:-0600
TZOFFSETTO:-0700
TZNAME:MST
DTSTART:20241103T080000
END:STANDARD
BEGIN:DAYLIGHT
TZOFFSETFROM:-0700
TZOFFSETTO:-0600
TZNAME:MDT
DTSTART:20250309T090000
END:DAYLIGHT
BEGIN:STANDARD
TZOFFSETFROM:-0600
TZOFFSETTO:-0700
TZNAME:MST
DTSTART:20251102T080000
END:STANDARD
END:VTIMEZONE
BEGIN:VEVENT
DTSTART;TZID=America/Edmonton:20241005T190000
DTEND;TZID=America/Edmonton:20241005T210000
DTSTAMP:20260424T131245
CREATED:20240928T012307Z
LAST-MODIFIED:20240928T012307Z
UID:35330-1728154800-1728162000@calgarycentraladventist.ca
SUMMARY:Games & Volleyball Juinors/Earliteens
DESCRIPTION:If you have kids ages 10-14 bring them to the games and volleyball night at Central Church. \nYou can drop them off at 7pm or volunteer in the kitchen to help with snacks.\nYounger siblings must have adult supervision at all times. \nOur first night is October 5 @ 7pm.\nTell your friends and bring snacks to share!\nSee you then!
URL:https://calgarycentraladventist.ca/event/games-volleyball-juinors-earliteens
LOCATION:Central Seventh Day Adventist Church\, 1920 13 Ave NW \, Calgary\, Canada
CATEGORIES:Free,Sports,Younger Youth
ATTACH;FMTTYPE=image/png:https://calgarycentraladventist.ca/wp-content/uploads/2024/09/Screen-Shot-2024-09-27-at-7.20.19-PM.png
END:VEVENT
BEGIN:VEVENT
DTSTART;TZID=America/Edmonton:20240929T100000
DTEND;TZID=America/Edmonton:20240929T120000
DTSTAMP:20260424T131245
CREATED:20240928T011016Z
LAST-MODIFIED:20240928T011016Z
UID:35322-1727604000-1727611200@calgarycentraladventist.ca
SUMMARY:Basketball Social
DESCRIPTION:Calgary Central Social Committee together with Youth Ministries \ninvite you to a BASKETBALL SOCIAL! \nSunday Sept 29 from 10am – 12pm.\n401 33 St NE\, Unit 8\, Calgary\n(Calgary Central Sportsplex–NOT Calgary Central Church) \nBring your sneakers and a $5 Donation
URL:https://calgarycentraladventist.ca/event/basketball-social
LOCATION:401 33 St NE Unit 8\, Calgary\, AB\, Unit 8\, 401 33 St NE\, Calgary\, Alberta\, T2A 7R3\, Canada
CATEGORIES:Social Committee,Sports,Youth
ATTACH;FMTTYPE=image/png:https://calgarycentraladventist.ca/wp-content/uploads/2024/09/Screen-Shot-2024-09-27-at-7.03.57-PM.png
ORGANIZER;CN="Social Committee":MAILTO:centralchurchsocialcom@gmail.com
END:VEVENT
END:VCALENDAR